BEGIN:VCALENDAR
VERSION:2.0
PRODID:-//American Turners - ECPv6.15.20//NONSGML v1.0//EN
CALSCALE:GREGORIAN
METHOD:PUBLISH
X-WR-CALNAME:American Turners
X-ORIGINAL-URL:https://americanturners.org
X-WR-CALDESC:Events for American Turners
REFRESH-INTERVAL;VALUE=DURATION:PT1H
X-Robots-Tag:noindex
X-PUBLISHED-TTL:PT1H
BEGIN:VTIMEZONE
TZID:UTC
BEGIN:STANDARD
TZOFFSETFROM:+0000
TZOFFSETTO:+0000
TZNAME:UTC
DTSTART:20230101T000000
END:STANDARD
END:VTIMEZONE
BEGIN:VEVENT
DTSTART;VALUE=DATE:20240215
DTEND;VALUE=DATE:20240316
DTSTAMP:20260421T052514
CREATED:20231214T193856Z
LAST-MODIFIED:20240117T025936Z
UID:5328-1707955200-1710547199@americanturners.org
SUMMARY:2024 Jr. Bowling Tournament
DESCRIPTION:Let’s get our Turners Youth involved in our friendly competitions!  Bowl locally with your little Turners and submit their scores between February 15 though March 15!  Prizes and bragging rights to follow the close of the tournament time frame window.  Contact the National Office for more information! \nJr. Bowling Rules \nJr. Bowling Entry Form
URL:https://americanturners.org/event/2023-jr-bowling-tournament
LOCATION:MA
END:VEVENT
END:VCALENDAR